BEGIN:VCALENDAR
VERSION:2.0
PRODID:-//Termite TV Collective - ECPv6.15.20//NONSGML v1.0//EN
CALSCALE:GREGORIAN
METHOD:PUBLISH
X-ORIGINAL-URL:https://termite.org/mound
X-WR-CALDESC:Events for Termite TV Collective
REFRESH-INTERVAL;VALUE=DURATION:PT1H
X-Robots-Tag:noindex
X-PUBLISHED-TTL:PT1H
BEGIN:VTIMEZONE
TZID:America/New_York
BEGIN:DAYLIGHT
TZOFFSETFROM:-0500
TZOFFSETTO:-0400
TZNAME:EDT
DTSTART:20240310T070000
END:DAYLIGHT
BEGIN:STANDARD
TZOFFSETFROM:-0400
TZOFFSETTO:-0500
TZNAME:EST
DTSTART:20241103T060000
END:STANDARD
BEGIN:DAYLIGHT
TZOFFSETFROM:-0500
TZOFFSETTO:-0400
TZNAME:EDT
DTSTART:20250309T070000
END:DAYLIGHT
BEGIN:STANDARD
TZOFFSETFROM:-0400
TZOFFSETTO:-0500
TZNAME:EST
DTSTART:20251102T060000
END:STANDARD
BEGIN:DAYLIGHT
TZOFFSETFROM:-0500
TZOFFSETTO:-0400
TZNAME:EDT
DTSTART:20260308T070000
END:DAYLIGHT
BEGIN:STANDARD
TZOFFSETFROM:-0400
TZOFFSETTO:-0500
TZNAME:EST
DTSTART:20261101T060000
END:STANDARD
END:VTIMEZONE
BEGIN:VEVENT
DTSTART;TZID=America/New_York:20250726T110000
DTEND;TZID=America/New_York:20250726T180000
DTSTAMP:20260425T150700
CREATED:20250604T173034Z
LAST-MODIFIED:20250923T162803Z
UID:24889-1753527600-1753552800@termite.org
SUMMARY:Places of Power: North Philadelphia History Festival
DESCRIPTION:Join us from 12-2pm with a reception with foods\, Puerto Rican sewing demonstrations and our Augmented Reality garden installation at the Africana Colobo Garden as part of the very first North Philadelphia History Festival! \nThe North Philadelphia History Festival (NPHF) is a cultural celebration of the African-American and Puerto Rican communities in North Philadelphia. Across four days\, historic sites along Ridge Avenue\, North Broad Street and other locales will be transformed into living exhibits created by artists\, historians\, curators and other cultural workers. \nThese multimedia projects and events will explore the emergence and impact of these communities in the 19th and 20th century. All events will be free and open to the public. \nPlaces of Power is an immersive AR/VR documentary\, public art\, and community media project that celebrates the West African diaspora in Puerto Rican culture and the legacy of Grupo Motivos\, a group of Puerto Rican women who transformed vacant city lots into vibrant community gardens. Project Directors Anula Shetty\, Iris Brown\, and Michael Kuetemeyer facilitated workshops with long-term residents to share the oral histories and memories of the Latine community in North Philadelphia. Come and explore the augmented reality artwork and stories embedded in this special garden. The project is a collaboration of Termite TV Collective and the Norris Square Neighborhood Project. Visit the interactive virtual tour at https://termite.org/colobo
URL:https://termite.org/mound/event/places-of-power-north-philadelphia-history-festival/
LOCATION:PA
ATTACH;FMTTYPE=image/jpeg:https://termite.org/mound/wp-content/uploads/2025/06/Colobo-Garden-1-1-e1758644874599.jpg
END:VEVENT
END:VCALENDAR