BEGIN:VCALENDAR
VERSION:2.0
PRODID:-//Termite TV Collective - ECPv6.15.20//NONSGML v1.0//EN
CALSCALE:GREGORIAN
METHOD:PUBLISH
X-WR-CALNAME:Termite TV Collective
X-ORIGINAL-URL:https://termite.org/mound
X-WR-CALDESC:Events for Termite TV Collective
REFRESH-INTERVAL;VALUE=DURATION:PT1H
X-Robots-Tag:noindex
X-PUBLISHED-TTL:PT1H
BEGIN:VTIMEZONE
TZID:America/New_York
BEGIN:DAYLIGHT
TZOFFSETFROM:-0500
TZOFFSETTO:-0400
TZNAME:EDT
DTSTART:20240310T070000
END:DAYLIGHT
BEGIN:STANDARD
TZOFFSETFROM:-0400
TZOFFSETTO:-0500
TZNAME:EST
DTSTART:20241103T060000
END:STANDARD
BEGIN:DAYLIGHT
TZOFFSETFROM:-0500
TZOFFSETTO:-0400
TZNAME:EDT
DTSTART:20250309T070000
END:DAYLIGHT
BEGIN:STANDARD
TZOFFSETFROM:-0400
TZOFFSETTO:-0500
TZNAME:EST
DTSTART:20251102T060000
END:STANDARD
BEGIN:DAYLIGHT
TZOFFSETFROM:-0500
TZOFFSETTO:-0400
TZNAME:EDT
DTSTART:20260308T070000
END:DAYLIGHT
BEGIN:STANDARD
TZOFFSETFROM:-0400
TZOFFSETTO:-0500
TZNAME:EST
DTSTART:20261101T060000
END:STANDARD
END:VTIMEZONE
BEGIN:VEVENT
DTSTART;TZID=America/New_York:20250404T170000
DTEND;TZID=America/New_York:20250404T200000
DTSTAMP:20260425T193121
CREATED:20250324T153934Z
LAST-MODIFIED:20250324T153934Z
UID:24824-1743786000-1743796800@termite.org
SUMMARY:First Fridays: Slow Scan
DESCRIPTION:Join us for First Fridays at Cherry Street Pier for an open-to-the-public Slow Scan activity at our Termite Studio. \nRSVP Here
URL:https://termite.org/mound/event/first-fridays-slow-scan/
LOCATION:PA
ATTACH;FMTTYPE=image/jpeg:https://termite.org/mound/wp-content/uploads/2025/03/April-4-Graphic-.jpg
END:VEVENT
BEGIN:VEVENT
DTSTART;TZID=America/New_York:20250419T190000
DTEND;TZID=America/New_York:20250419T203000
DTSTAMP:20260425T193121
CREATED:20250324T162851Z
LAST-MODIFIED:20250915T180303Z
UID:24828-1745089200-1745094600@termite.org
SUMMARY:Understories Video Program
DESCRIPTION:As Termite TV embarks on its 4th decade\, having created dozens of collaborative programs\, working across multiple media platforms\, this is the first show to be produced through a year-long studio residency at Cherry Street Pier.  \nWe started with an experimental sound exploration\, continued with a poetry workshop\, then printed silkscreens and gathered outdoors to project video at night  and then create plant imprints under the sun – all under the theme of Understories: we are growing and evolving through our network. \n  \n		\n		\n			\n										\n							\n								\n							\n														Deb Rudman and gabe castro introducing the program\n\n						\n										\n							\n								\n							\n														Participants gathering for a picture\n\n						\n							\n		\n		\n\nPCAM Participants: \nHope and ANTS by Natalie Thomas \nThe Fire Inside by Tamara Jackson \nStand Tall With Coping Skills: Ava’s Giraffe Journey by Dr. Jenine Lowery\, LPC Featuring: Ava Brown and Shelby-Animal Care Specialist at Longneck Manor  \nWelcome to the Understory by Gabrielle Patterson \nThe Susurrus between Light and Shadow  by Nicole Dupree \nRewild by Joy Elisabeth Waldinger (J. Eliza Wall) \nMariposas by Frances Almodovar \nIncubator of Life by Gabrielle Patterson \n  \nTermite TV Collective Participants: \nOyster Spells by Ingrid Raphaël – A Meditation on Oysters \nThe Food of the Yard by Michael O’Reilly – Explores  the understory of the maker\, his family and their backyard. \nTunnel Under World by Anula Shetty – A subway journey exploring underground abandoned tunnels \nLava Tubes by Michael Kuetemeyer – Cooling from the top forms an insulating skin. The heat\, now contained\, allows the inside to stay molten\, flowing forward. \nThe Moray Dance by Francesca Lally – A rotoscoped underwater ballet\, a sinuous manifesto.The eels have been watching us and this is what they have to say. \nShrooms by the Ghouls Next Door – Two friends conduct a ritual in hopes of making a meaningful connection with the spirit realm. \nTiny Worlds by Karen Lefkovitz – Utilizes macro photography to reveal hidden worlds\, which are a gateway to larger questions about human perception. \nWhat is Mycelium by Alan Powell – Mushroom Talk/Dance \nAlda and the Fungi by María Teresa Rodríguez and Lily Xie – For over two decades\, Dr. Alda Rodríguez has harnessed the power of soil fungi to combat pests and diseases in plants and livestock. These microscopic allies are at the heart of her mission to eliminate agrotoxins from our food and to regenerate our soil and ecosystems. \nIce Cocoon by Kathleen Sweeney – Explores winter wandering in open sensory symbiosis with nature\, a rewilding search for refuge within breathing cycles of bird song\, coyote calls\, snow\, ice and melt. “Ice Cocoon” seeks\, scans and discovers\, traversing woodland transitions\, a metaphoric metamorphosis in cycles of seasonal transformation.
URL:https://termite.org/mound/event/understories-video-program/
LOCATION:PA
CATEGORIES:Screening,Understories
END:VEVENT
END:VCALENDAR