BEGIN:VCALENDAR
VERSION:2.0
PRODID:-//Termite TV Collective - ECPv6.15.20//NONSGML v1.0//EN
CALSCALE:GREGORIAN
METHOD:PUBLISH
X-ORIGINAL-URL:https://termite.org/mound
X-WR-CALDESC:Events for Termite TV Collective
REFRESH-INTERVAL;VALUE=DURATION:PT1H
X-Robots-Tag:noindex
X-PUBLISHED-TTL:PT1H
BEGIN:VTIMEZONE
TZID:America/New_York
BEGIN:DAYLIGHT
TZOFFSETFROM:-0500
TZOFFSETTO:-0400
TZNAME:EDT
DTSTART:20250309T070000
END:DAYLIGHT
BEGIN:STANDARD
TZOFFSETFROM:-0400
TZOFFSETTO:-0500
TZNAME:EST
DTSTART:20251102T060000
END:STANDARD
BEGIN:DAYLIGHT
TZOFFSETFROM:-0500
TZOFFSETTO:-0400
TZNAME:EDT
DTSTART:20260308T070000
END:DAYLIGHT
BEGIN:STANDARD
TZOFFSETFROM:-0400
TZOFFSETTO:-0500
TZNAME:EST
DTSTART:20261101T060000
END:STANDARD
BEGIN:DAYLIGHT
TZOFFSETFROM:-0500
TZOFFSETTO:-0400
TZNAME:EDT
DTSTART:20270314T070000
END:DAYLIGHT
BEGIN:STANDARD
TZOFFSETFROM:-0400
TZOFFSETTO:-0500
TZNAME:EST
DTSTART:20271107T060000
END:STANDARD
END:VTIMEZONE
BEGIN:VEVENT
DTSTART;TZID=America/New_York:20260418T110000
DTEND;TZID=America/New_York:20260418T140000
DTSTAMP:20260425T080201
CREATED:20260327T183347Z
LAST-MODIFIED:20260402T021619Z
UID:25339-1776510000-1776520800@termite.org
SUMMARY:Mending Workshop with Duwenavue Santé Johnson
DESCRIPTION:Using the technique of embroidery on photos\, mixed with fabric and mixed media collage\, participants will be invited to bring a photo or send one in advance of an image that represents something they would like to mend in their life-a memory\, relationship or experience. Participants individuals pieces will be become part of a collaborative exhibit presented at Cherry Street Pier in May. \n“For Johnson\, a master of the needle trade\, the artistic process is inseparable from the act of survival. The process of mending a textile is identical to the process of mending a life\,” says Johnson. Her work collapses the distance between vocational expertise and communal storytelling\, turning the technical precision of the stitch into a vehicle for social cohesion within a space of her own creation.” \nhttps://www.duwenavuesantejohnson.com/bio# \nhttps://www.instagram.com/sante_artxstitch.art/
URL:https://termite.org/mound/event/mending-workshop-with-duwenavue-sante-johnson/
LOCATION:PA
CATEGORIES:Mending,Workshop
ATTACH;FMTTYPE=image/jpeg:https://termite.org/mound/wp-content/uploads/2026/03/Between-the-Threads-1.jpg
END:VEVENT
BEGIN:VEVENT
DTSTART;TZID=America/New_York:20260428T170000
DTEND;TZID=America/New_York:20260428T190000
DTSTAMP:20260425T080201
CREATED:20260419T192143Z
LAST-MODIFIED:20260419T192143Z
UID:25377-1777395600-1777402800@termite.org
SUMMARY:Estamos Aqui!: A Film Screening w/ Norris Square Neighborhood Project
DESCRIPTION:Screening of Las Parcelas Garden (2004) and Villa Africana Colobó Garden (2006) videos and discussion of current and upcoming community media projects in the Norris Square Neighborhood.
URL:https://termite.org/mound/event/estamos-aqui-a-film-screening-w-norris-square-neighborhood-project/
LOCATION:Kensington Engagement Center\, 3000 Kensington Avenue\, Philadelphia\, PA\, 19134\, United States
ATTACH;FMTTYPE=image/jpeg:https://termite.org/mound/wp-content/uploads/2026/04/Grupo-Motivos-portrat-AR-target-for-metal-print-topaz-faceai-sharpen-cc-for-artivive-target.jpg
END:VEVENT
END:VCALENDAR