BEGIN:VCALENDAR
VERSION:2.0
PRODID:-//Termite TV Collective - ECPv6.15.20//NONSGML v1.0//EN
CALSCALE:GREGORIAN
METHOD:PUBLISH
X-WR-CALNAME:Termite TV Collective
X-ORIGINAL-URL:https://termite.org/mound
X-WR-CALDESC:Events for Termite TV Collective
REFRESH-INTERVAL;VALUE=DURATION:PT1H
X-Robots-Tag:noindex
X-PUBLISHED-TTL:PT1H
BEGIN:VTIMEZONE
TZID:America/New_York
BEGIN:DAYLIGHT
TZOFFSETFROM:-0500
TZOFFSETTO:-0400
TZNAME:EDT
DTSTART:20240310T070000
END:DAYLIGHT
BEGIN:STANDARD
TZOFFSETFROM:-0400
TZOFFSETTO:-0500
TZNAME:EST
DTSTART:20241103T060000
END:STANDARD
BEGIN:DAYLIGHT
TZOFFSETFROM:-0500
TZOFFSETTO:-0400
TZNAME:EDT
DTSTART:20250309T070000
END:DAYLIGHT
BEGIN:STANDARD
TZOFFSETFROM:-0400
TZOFFSETTO:-0500
TZNAME:EST
DTSTART:20251102T060000
END:STANDARD
BEGIN:DAYLIGHT
TZOFFSETFROM:-0500
TZOFFSETTO:-0400
TZNAME:EDT
DTSTART:20260308T070000
END:DAYLIGHT
BEGIN:STANDARD
TZOFFSETFROM:-0400
TZOFFSETTO:-0500
TZNAME:EST
DTSTART:20261101T060000
END:STANDARD
END:VTIMEZONE
BEGIN:VEVENT
DTSTART;TZID=America/New_York:20251120T190000
DTEND;TZID=America/New_York:20251120T210000
DTSTAMP:20260425T122727
CREATED:20251117T023035Z
LAST-MODIFIED:20251117T023035Z
UID:25233-1763665200-1763672400@termite.org
SUMMARY:The Soup: What's Your Ritual
DESCRIPTION:Let’s come together with our community to share and nurture our relationship with grief and loss. What are your rituals for remembrance?\n\n\n\nLet’s come together with our community to share and nurture our relationship with grief and loss. What are your rituals for remembrance? In collaboration with The Thread\, an art and grief collective\, The Ghouls Next Door are screening their new horror-comedy film\, The Soup. After the film\, participants will share their stories and have an opportunity to build their rituals through candle making\, a grief phone installation\, and other interactive art practices designed to honor memory.
URL:https://termite.org/mound/event/the-soup-whats-your-ritual/
LOCATION:Cherry Street Pier\, 121 N Christopher Columbus Blvd\, Philadelphia\, PA\, 19106\, United States
CATEGORIES:Screening,Workshop
ATTACH;FMTTYPE=image/jpeg:https://termite.org/mound/wp-content/uploads/2025/11/Ritual-workshop-image.jpg
END:VEVENT
END:VCALENDAR