BEGIN:VCALENDAR
VERSION:2.0
PRODID:-//Termite TV Collective - ECPv6.15.20//NONSGML v1.0//EN
CALSCALE:GREGORIAN
METHOD:PUBLISH
X-WR-CALNAME:Termite TV Collective
X-ORIGINAL-URL:https://termite.org/mound
X-WR-CALDESC:Events for Termite TV Collective
REFRESH-INTERVAL;VALUE=DURATION:PT1H
X-Robots-Tag:noindex
X-PUBLISHED-TTL:PT1H
BEGIN:VTIMEZONE
TZID:America/New_York
BEGIN:DAYLIGHT
TZOFFSETFROM:-0500
TZOFFSETTO:-0400
TZNAME:EDT
DTSTART:20240310T070000
END:DAYLIGHT
BEGIN:STANDARD
TZOFFSETFROM:-0400
TZOFFSETTO:-0500
TZNAME:EST
DTSTART:20241103T060000
END:STANDARD
BEGIN:DAYLIGHT
TZOFFSETFROM:-0500
TZOFFSETTO:-0400
TZNAME:EDT
DTSTART:20250309T070000
END:DAYLIGHT
BEGIN:STANDARD
TZOFFSETFROM:-0400
TZOFFSETTO:-0500
TZNAME:EST
DTSTART:20251102T060000
END:STANDARD
BEGIN:DAYLIGHT
TZOFFSETFROM:-0500
TZOFFSETTO:-0400
TZNAME:EDT
DTSTART:20260308T070000
END:DAYLIGHT
BEGIN:STANDARD
TZOFFSETFROM:-0400
TZOFFSETTO:-0500
TZNAME:EST
DTSTART:20261101T060000
END:STANDARD
END:VTIMEZONE
BEGIN:VEVENT
DTSTART;TZID=America/New_York:20250502T180000
DTEND;TZID=America/New_York:20250502T200000
DTSTAMP:20260425T195700
CREATED:20250428T171839Z
LAST-MODIFIED:20250428T180428Z
UID:24867-1746208800-1746216000@termite.org
SUMMARY:First Fridays: Signal Culture Demo
DESCRIPTION:Join us for a workshop and demo learning how to use Signal Culture: a program that lets you manipulate video inputs live with distorting\, delay\, mirroring\, fisheye\, color manipulation and more. Play with projections\, videos\, and learn the accessible program that you can use in your video projections\, installations\, mapping and experimentations. \nFree and open to the public with special interests to filmmakers\, media enthusiasts\, video experimentalists who want to learn a new skill! \nRSVP at our eventbrite
URL:https://termite.org/mound/event/first-fridays-signal-culture-demo/
CATEGORIES:Open House,Workshop
ATTACH;FMTTYPE=image/jpeg:https://termite.org/mound/wp-content/uploads/2025/04/IMG_7259.jpg
END:VEVENT
END:VCALENDAR