BEGIN:VCALENDAR
VERSION:2.0
PRODID:-//Termite TV Collective - ECPv6.15.20//NONSGML v1.0//EN
CALSCALE:GREGORIAN
METHOD:PUBLISH
X-ORIGINAL-URL:https://termite.org/mound
X-WR-CALDESC:Events for Termite TV Collective
REFRESH-INTERVAL;VALUE=DURATION:PT1H
X-Robots-Tag:noindex
X-PUBLISHED-TTL:PT1H
BEGIN:VTIMEZONE
TZID:America/New_York
BEGIN:DAYLIGHT
TZOFFSETFROM:-0500
TZOFFSETTO:-0400
TZNAME:EDT
DTSTART:20240310T070000
END:DAYLIGHT
BEGIN:STANDARD
TZOFFSETFROM:-0400
TZOFFSETTO:-0500
TZNAME:EST
DTSTART:20241103T060000
END:STANDARD
BEGIN:DAYLIGHT
TZOFFSETFROM:-0500
TZOFFSETTO:-0400
TZNAME:EDT
DTSTART:20250309T070000
END:DAYLIGHT
BEGIN:STANDARD
TZOFFSETFROM:-0400
TZOFFSETTO:-0500
TZNAME:EST
DTSTART:20251102T060000
END:STANDARD
BEGIN:DAYLIGHT
TZOFFSETFROM:-0500
TZOFFSETTO:-0400
TZNAME:EDT
DTSTART:20260308T070000
END:DAYLIGHT
BEGIN:STANDARD
TZOFFSETFROM:-0400
TZOFFSETTO:-0500
TZNAME:EST
DTSTART:20261101T060000
END:STANDARD
END:VTIMEZONE
BEGIN:VEVENT
DTSTART;TZID=America/New_York:20250805T190000
DTEND;TZID=America/New_York:20250805T210000
DTSTAMP:20260425T161148
CREATED:20250729T172028Z
LAST-MODIFIED:20250729T210354Z
UID:24920-1754420400-1754427600@termite.org
SUMMARY:Filmmaker Meet Up & Reception with Visible Evidence Conference
DESCRIPTION:Termite TV is hosting an opening reception and open house in collaboration with Visible Evidence Conference taking place at Temple University this year. Our studios will be open and our exhibit Understories will be available for viewing with food trucks and drinks for conference attendees and local filmmakers. \nThis is an opportunity for out-of-town conference attendees and local filmmakers to meet surrounding art created and organized by Termite TV Collective in effort to bridge our media-makers communities locally and nationally who are invested in community storytelling and pathways of making rooted in values moving beyond the status quo. \nWe are grateful to Visible Evidence Conference organizers for co-hosting this with us. If you’re a filmmaker looking to meet other filmmakers\, video artists and media makers\, we welcome you to the opening reception and open house on Tuesday\, August 5th from 7-9pm. \nThis programming is part of our month-long Understories exhibit\, screenings and programming at Cherry Street Pier. If you’re interested in attending the Visible Evidence Conference\, you can find out more here.
URL:https://termite.org/mound/event/filmmaker-meet-up-opening-reception-with-visible-evidence-conference/
CATEGORIES:Exhibition
END:VEVENT
END:VCALENDAR