BEGIN:VCALENDAR
VERSION:2.0
PRODID:-//Termite TV Collective - ECPv6.15.20//NONSGML v1.0//EN
CALSCALE:GREGORIAN
METHOD:PUBLISH
X-WR-CALNAME:Termite TV Collective
X-ORIGINAL-URL:https://termite.org/mound
X-WR-CALDESC:Events for Termite TV Collective
REFRESH-INTERVAL;VALUE=DURATION:PT1H
X-Robots-Tag:noindex
X-PUBLISHED-TTL:PT1H
BEGIN:VTIMEZONE
TZID:America/New_York
BEGIN:DAYLIGHT
TZOFFSETFROM:-0500
TZOFFSETTO:-0400
TZNAME:EDT
DTSTART:20240310T070000
END:DAYLIGHT
BEGIN:STANDARD
TZOFFSETFROM:-0400
TZOFFSETTO:-0500
TZNAME:EST
DTSTART:20241103T060000
END:STANDARD
BEGIN:DAYLIGHT
TZOFFSETFROM:-0500
TZOFFSETTO:-0400
TZNAME:EDT
DTSTART:20250309T070000
END:DAYLIGHT
BEGIN:STANDARD
TZOFFSETFROM:-0400
TZOFFSETTO:-0500
TZNAME:EST
DTSTART:20251102T060000
END:STANDARD
BEGIN:DAYLIGHT
TZOFFSETFROM:-0500
TZOFFSETTO:-0400
TZNAME:EDT
DTSTART:20260308T070000
END:DAYLIGHT
BEGIN:STANDARD
TZOFFSETFROM:-0400
TZOFFSETTO:-0500
TZNAME:EST
DTSTART:20261101T060000
END:STANDARD
END:VTIMEZONE
BEGIN:VEVENT
DTSTART;TZID=America/New_York:20250801T120000
DTEND;TZID=America/New_York:20250831T180000
DTSTAMP:20260425T150155
CREATED:20250703T130211Z
LAST-MODIFIED:20250729T210518Z
UID:24897-1754049600-1756663200@termite.org
SUMMARY:Understories Exhibit at Cherry Street Pier
DESCRIPTION:Over the past year at our studio residency at Cherry Street Pier\, we invited local artists\, herbalists\, poets\, dancers\, media-makers\, and collaborators to guide us through our theme ‘Understories\,’ what lives underneath the surface unseen to the eye yet still exists; the networks of connection that we make rooted back to the surface\, the poetic synapses of mycellium activating their communication channels\, and the invisible tunnels that Termites create within rings of tree trunks.\n\nThis multimedia exhibit presented by Termite TV will feature a stellar slate of artists for a month at Cherry Street Pier from August 1-31.\n\nFeaturing artworks\, sculpture\, videos\, sounds\, and installations from our collaborators over the past year: \nNicole Duprée\, Emily Fisher\, William Hazard\, Sadie Hicks\, Michael Kuetemeyer\, Karen Lefkovitz\, Warren C. Longmire\, Julia Lopez\, Chloe Marie\, Dominique Matti\, Gabrielle Patterson\, Alan Powell\, Ingrid Raphaël\, Craig Scheihing\, Anula Shetty\, Kathleen Sweeney. Frances Almodovar\, the Ghouls Next Door\, Tamara R. Jackson\, Dr. Jenine Lowery\, Michael O’Reilly\, Francesca Lally\, María Teres Rodriguez\, Natalie Thomas\, Joy Waldinger. Lee Clawson\, Adam Cooper-Terán\, Betty’s Eyes\, Laura Deutch\, Jamie Goetz\, Lorne Peart\, Deborah Rudman\, Jake Smith & Workshop Participants. \nSpecial events:\nFirst Friday Opening: Aug 1st at Cherry Street Pier from 6-8pm\nFilm Screening of Understories Projects: Aug 15th from 6:30-8:30p at Cherry Street Pier\n\n\nWe’d like to thank our collaborators and funders who made this work possible:\nCherry Street Pier\nGreater Philadelphia Cultural Alliance\nPennsylvania Council of the Arts\nIndependence Media\nPhiladelphia Cultural Fund\nPhillyCAM TV
URL:https://termite.org/mound/event/understories-exhibit-at-cherry-street-pier/
LOCATION:PA
CATEGORIES:Open House
END:VEVENT
END:VCALENDAR